BEGIN:VCALENDAR
VERSION:2.0
PRODID:-//Entitat dinamitzadora de la Festa Major de Mollet del Vallès - ECPv6.13.1//NONSGML v1.0//EN
CALSCALE:GREGORIAN
METHOD:PUBLISH
X-ORIGINAL-URL:https://torrats.com
X-WR-CALDESC:Esdeveniments per Entitat dinamitzadora de la Festa Major de Mollet del Vallès
REFRESH-INTERVAL;VALUE=DURATION:PT1H
X-Robots-Tag:noindex
X-PUBLISHED-TTL:PT1H
BEGIN:VTIMEZONE
TZID:Europe/Andorra
BEGIN:DAYLIGHT
TZOFFSETFROM:+0100
TZOFFSETTO:+0200
TZNAME:CEST
DTSTART:20190331T010000
END:DAYLIGHT
BEGIN:STANDARD
TZOFFSETFROM:+0200
TZOFFSETTO:+0100
TZNAME:CET
DTSTART:20191027T010000
END:STANDARD
BEGIN:DAYLIGHT
TZOFFSETFROM:+0100
TZOFFSETTO:+0200
TZNAME:CEST
DTSTART:20200329T010000
END:DAYLIGHT
BEGIN:STANDARD
TZOFFSETFROM:+0200
TZOFFSETTO:+0100
TZNAME:CET
DTSTART:20201025T010000
END:STANDARD
BEGIN:DAYLIGHT
TZOFFSETFROM:+0100
TZOFFSETTO:+0200
TZNAME:CEST
DTSTART:20210328T010000
END:DAYLIGHT
BEGIN:STANDARD
TZOFFSETFROM:+0200
TZOFFSETTO:+0100
TZNAME:CET
DTSTART:20211031T010000
END:STANDARD
BEGIN:DAYLIGHT
TZOFFSETFROM:+0100
TZOFFSETTO:+0200
TZNAME:CEST
DTSTART:20220327T010000
END:DAYLIGHT
BEGIN:STANDARD
TZOFFSETFROM:+0200
TZOFFSETTO:+0100
TZNAME:CET
DTSTART:20221030T010000
END:STANDARD
END:VTIMEZONE
BEGIN:VEVENT
DTSTART;TZID=Europe/Andorra:20220514T103000
DTEND;TZID=Europe/Andorra:20220514T235900
DTSTAMP:20260422T125525
CREATED:20220507T104449Z
LAST-MODIFIED:20220507T104449Z
UID:4045-1652524200-1652572740@torrats.com
SUMMARY:III Fira de Cervesa Artesana de Mollet del Vallès
DESCRIPTION:El 14 de Maig\, cervesa artesana i espectacles de música i màgia tornen a Mollet per omplir el Parc de Can Mulà. \nMés informació: https://torrats.com/iii-fira-de-cervesa-artesana-de-mollet-del-valles/
URL:https://torrats.com/acte/iii-fira-de-cervesa-artesana-de-mollet-del-valles/
LOCATION:Parc de Can Mulà\, Parc de Can Mulà\, Mollet del Vallès\, Barcelona\, 08100\, Espanya
ATTACH;FMTTYPE=image/jpeg:https://torrats.com/wp-content/uploads/2022/05/iii-fira-cervesa-artesana-mollet.jpeg
END:VEVENT
BEGIN:VEVENT
DTSTART;TZID=Europe/Andorra:20220326T100000
DTEND;TZID=Europe/Andorra:20220326T140000
DTSTAMP:20260422T125525
CREATED:20220319T174652Z
LAST-MODIFIED:20220329T095051Z
UID:3960-1648288800-1648303200@torrats.com
SUMMARY:Torneig de Pàdel Calçotada Torrada (anul·lat)
DESCRIPTION:Torneig anul·lat per previsió de pluja.
URL:https://torrats.com/acte/torneig-de-padel-calcotada-torrada/
LOCATION:Can Prat Pàdel Club\, Avinguda Can Prat\, 16\, Mollet del Vallès\, 08100\, Espanya
END:VEVENT
BEGIN:VEVENT
DTSTART;TZID=Europe/Andorra:20220319T180000
DTEND;TZID=Europe/Andorra:20220319T220000
DTSTAMP:20260422T125525
CREATED:20220319T090808Z
LAST-MODIFIED:20220319T090837Z
UID:3956-1647712800-1647727200@torrats.com
SUMMARY:St Patrick's day
DESCRIPTION:
URL:https://torrats.com/acte/st-patricks-day/
LOCATION:Brannigan’s Irish Pub
END:VEVENT
BEGIN:VEVENT
DTSTART;TZID=Europe/Andorra:20220318T210000
DTEND;TZID=Europe/Andorra:20220318T220000
DTSTAMP:20260422T125525
CREATED:20220318T170525Z
LAST-MODIFIED:20220318T170705Z
UID:3951-1647637200-1647640800@torrats.com
SUMMARY:És un ocell? És un avió?
DESCRIPTION:
URL:https://torrats.com/acte/es-un-ocell-es-un-avio/
LOCATION:Centre Cívic de Can Pantiquet\, Carrer de Can Flaquer\, 25\, Mollet del Vallès\, Catalunya\, 08100\, Spain
END:VEVENT
BEGIN:VEVENT
DTSTART;TZID=Europe/Andorra:20200818T180000
DTEND;TZID=Europe/Andorra:20200818T210000
DTSTAMP:20260422T125525
CREATED:20200806T105357Z
LAST-MODIFIED:20200806T133451Z
UID:2495-1597773600-1597784400@torrats.com
SUMMARY:Màgia - Obre els ulls amb Pau Segalés
DESCRIPTION:Pau Segalés ens ofereix en tan sols 40 minuts la suma d’anys d’experiència i recorregut per escenaris de més d’una vintena de països en quatre continents. Màgia\, humor\, misteri\, interacció (respectant en tot moment les mesures de seguretat)\, il·lusions amb objectes quotidians es barregen per fer gaudir al públic i evadir-se del moment tan difícil que ens ha tocat viure. \nApunta’t
URL:https://torrats.com/acte/espectacle-de-magia/
LOCATION:Escola del Bosc\, Carrer d'Hipòlit Lázaro\,1\, Mollet del Vallès\, Barcelona\, 08100\, Spain
CATEGORIES:Festa Torrada 2020
ATTACH;FMTTYPE=image/jpeg:https://torrats.com/wp-content/uploads/2020/07/obre-els-ulls.jpg
END:VEVENT
BEGIN:VEVENT
DTSTART;TZID=Europe/Andorra:20200817T220000
DTEND;TZID=Europe/Andorra:20200817T220000
DTSTAMP:20260422T125525
CREATED:20200806T105356Z
LAST-MODIFIED:20200806T133454Z
UID:2494-1597701600-1597701600@torrats.com
SUMMARY:Concert Estel Torrat amb Ginestà
DESCRIPTION:Banda encapçalada per la Júlia i en Pau\, dos germans andreuencs que narren la quotidianitat i els seus ideals mitjançant la música pop\, la cançó protesta i el folk català. \nApunta’t
URL:https://torrats.com/acte/concert-estel-torrat/
LOCATION:El Jardinet\, Ronda de Can Fàbregas\, 5\, Mollet del Vallés\, Barcelona\, 08100
CATEGORIES:Festa Torrada 2020
ATTACH;FMTTYPE=image/jpeg:https://torrats.com/wp-content/uploads/2020/07/ginesta-concert-scaled.jpg
END:VEVENT
BEGIN:VEVENT
DTSTART;TZID=Europe/Andorra:20200817T180000
DTEND;TZID=Europe/Andorra:20200817T200000
DTSTAMP:20260422T125525
CREATED:20200806T105353Z
LAST-MODIFIED:20200806T133013Z
UID:2493-1597687200-1597694400@torrats.com
SUMMARY:Circ amb Mr.Nobody
DESCRIPTION:Un personatge excèntric\, una maleta\, i un escenari. Coneixerem desde la simplicitat un personatge còmic i enèrgic que posarà totes les seves eines per crear un moment divertit per tota la família. Espectacle de circ amb malabars i tocs acrobàtics viurem un moment màgic en el que tots serem participants. \nApunta’t
URL:https://torrats.com/acte/espectacle-de-circ/
LOCATION:Escola del Bosc\, Carrer d'Hipòlit Lázaro\,1\, Mollet del Vallès\, Barcelona\, 08100\, Spain
CATEGORIES:Festa Torrada 2020
ATTACH;FMTTYPE=image/jpeg:https://torrats.com/wp-content/uploads/2020/07/mr-nobody-fm-2020.jpg
END:VEVENT
BEGIN:VEVENT
DTSTART;TZID=Europe/Andorra:20200816T220000
DTEND;TZID=Europe/Andorra:20200816T230000
DTSTAMP:20260422T125525
CREATED:20200806T105353Z
LAST-MODIFIED:20200806T133104Z
UID:2492-1597615200-1597618800@torrats.com
SUMMARY:Concurs de birres
DESCRIPTION:Ets el més ràpid bevent cervesa? Fes un equip de 4 persones i apunta’t al tradicional concurs de la colla! \nApunta’t
URL:https://torrats.com/acte/concurs-de-birres/
LOCATION:Escola del Bosc\, Carrer d'Hipòlit Lázaro\,1\, Mollet del Vallès\, Barcelona\, 08100\, Spain
CATEGORIES:Festa Torrada 2020
ATTACH;FMTTYPE=image/jpeg:https://torrats.com/wp-content/uploads/2020/08/concurs-birres.jpg
END:VEVENT
BEGIN:VEVENT
DTSTART;TZID=Europe/Andorra:20200816T110000
DTEND;TZID=Europe/Andorra:20200816T130000
DTSTAMP:20260422T125525
CREATED:20200806T105352Z
LAST-MODIFIED:20200806T132821Z
UID:2491-1597575600-1597582800@torrats.com
SUMMARY:Dr. Bombolles
DESCRIPTION:El Dr. Bombolles torna a la seva ciutat carregat d’estris\, andròmines i diferents “catibatxes” que ha recopilar d’arreu del món en les seves triomfals gires. A ritme de música trepidant crearà bombolles de totes les mides\, formes i colors\, omplint-les de fum\, foc\, alegria i felicitat. Acompanyeu-lo en aquest fantàstic viatge i gaudiu de les seves creacions\, efímeres amb tota la il·lusió\, segui-lo i us portarà a un món màgic.“Bombolles a dojo” no us deixarà de sorprendre i dibuixarà un somriure darrere d’un altre. \nApunta’t
URL:https://torrats.com/acte/dr-bombolles/
LOCATION:Escola del Bosc\, Carrer d'Hipòlit Lázaro\,1\, Mollet del Vallès\, Barcelona\, 08100\, Spain
CATEGORIES:Festa Torrada 2020
ATTACH;FMTTYPE=image/jpeg:https://torrats.com/wp-content/uploads/2020/07/dr-bombolles-fm-2020.jpg
END:VEVENT
BEGIN:VEVENT
DTSTART;TZID=Europe/Andorra:20200816T080000
DTEND;TZID=Europe/Andorra:20200816T093000
DTSTAMP:20260422T125525
CREATED:20200806T105352Z
LAST-MODIFIED:20200815T145045Z
UID:2490-1597564800-1597570200@torrats.com
SUMMARY:Caravana torrada - ANUL▪LADA
DESCRIPTION:Acte anul•lat degut a les noves reestriccions causades pel COVID. \nSi vols espertar la ciutat amb nosaltres\, agafa el teu cotxe\, vine al punt de trobada  i fes la teva ruta\, sense cap aturada\, per tota la ciutat amb la música ben forta! Que ens escoltin més que mai!
URL:https://torrats.com/acte/caravana-torrada/
LOCATION:Escola del Bosc\, Carrer d'Hipòlit Lázaro\,1\, Mollet del Vallès\, Barcelona\, 08100\, Spain
END:VEVENT
BEGIN:VEVENT
DTSTART;TZID=Europe/Andorra:20200815T200000
DTEND;TZID=Europe/Andorra:20200815T200000
DTSTAMP:20260422T125525
CREATED:20200806T105351Z
LAST-MODIFIED:20200806T132740Z
UID:2489-1597521600-1597521600@torrats.com
SUMMARY:El naixement del Joglar
DESCRIPTION:Monòleg sobre textos de Dario Fo\, traduïts\, adaptats i interpretats per Ferrran Jiménez. En aquest fragment del seu proper espectacle\, Ferran Jiménez es converteix en el primer joglar de la història\, que arriba a la plaça del seu poble per explicar-nos els seu orígens. \nApunta’t
URL:https://torrats.com/acte/espectacle-del-joglar/
LOCATION:Escola del Bosc\, Carrer d'Hipòlit Lázaro\,1\, Mollet del Vallès\, Barcelona\, 08100\, Spain
CATEGORIES:Festa Torrada 2020
ATTACH;FMTTYPE=image/jpeg:https://torrats.com/wp-content/uploads/2020/07/ferran-jimenez.jpg
END:VEVENT
BEGIN:VEVENT
DTSTART;TZID=Europe/Andorra:20200815T110000
DTEND;TZID=Europe/Andorra:20200815T130000
DTSTAMP:20260422T125525
CREATED:20200806T105348Z
LAST-MODIFIED:20200806T132603Z
UID:2488-1597489200-1597496400@torrats.com
SUMMARY:Espectacle del Moll Fer
DESCRIPTION:Fa molts dies que el Moll Fer no surt a ballar pels carrers de Mollet. Tindreu la oportunitat de veure’l ballar ple de llum i color. \nApunta’t
URL:https://torrats.com/acte/espectacle-del-mollfer/
LOCATION:Escola del Bosc\, Carrer d'Hipòlit Lázaro\,1\, Mollet del Vallès\, Barcelona\, 08100\, Spain
CATEGORIES:Festa Torrada 2020
ATTACH;FMTTYPE=image/jpeg:https://torrats.com/wp-content/uploads/2020/07/cropped-moll-fer-home.jpeg
END:VEVENT
BEGIN:VEVENT
DTSTART;TZID=Europe/Andorra:20200814T230000
DTEND;TZID=Europe/Andorra:20200814T230000
DTSTAMP:20260422T125525
CREATED:20200806T105348Z
LAST-MODIFIED:20200806T105348Z
UID:2487-1597446000-1597446000@torrats.com
SUMMARY:Concurs de Dj's
DESCRIPTION:Hi ha un Dj dins teu? Deixa’l sortir al concurs de Dj’s torrat i fes ballar Mollet. Només cal que portis el teu portatil i taula\, i les ganes de punxar que noslatres ens ocupem de la resta.
URL:https://torrats.com/acte/concurs-de-djs/
LOCATION:Escola del Bosc\, Carrer d'Hipòlit Lázaro\,1\, Mollet del Vallès\, Barcelona\, 08100\, Spain
END:VEVENT
BEGIN:VEVENT
DTSTART;TZID=Europe/Andorra:20200814T200000
DTEND;TZID=Europe/Andorra:20200814T220000
DTSTAMP:20260422T125525
CREATED:20200806T105347Z
LAST-MODIFIED:20200806T125547Z
UID:2486-1597435200-1597442400@torrats.com
SUMMARY:Jam session
DESCRIPTION:T’agrada la música? T’agradaria venir a cantar o a tocar algun instrument? Porta el teu sopar i gaudeix de la música en directe\, tant si vens com a artista o vols venir a veure l’espectacle\, t’hi esperem. \nApunta’t
URL:https://torrats.com/acte/jam-sesion/
LOCATION:Escola del Bosc\, Carrer d'Hipòlit Lázaro\,1\, Mollet del Vallès\, Barcelona\, 08100\, Spain
CATEGORIES:Festa Torrada 2020
ATTACH;FMTTYPE=image/jpeg:https://torrats.com/wp-content/uploads/2020/07/jam-session-scaled.jpeg
END:VEVENT
BEGIN:VEVENT
DTSTART;TZID=Europe/Andorra:20200814T100000
DTEND;TZID=Europe/Andorra:20200814T210000
DTSTAMP:20260422T125525
CREATED:20200806T105342Z
LAST-MODIFIED:20200806T110739Z
UID:2481-1597399200-1597438800@torrats.com
SUMMARY:Venda ruta del torrat\, pack soci\, entrades i marxandatge Torrat
DESCRIPTION:A la nostra botigueta podreu comprar tots els packs de socis\, mocadors i samarretes torrades\, els tiquets de la ruta dels torrats\, les entrades dels espectacles i el marxandatge torrat. \nEls mètodes de pagament que podeu fer servir són: \n\nTargeta\nTransferència bancària\nPayPal\nBizum (en el moment de venir a recollir la comanda)\nEn efectiu (en el moment de venir a recollir la comanda)\n\nLes comandes s’hauran de recollir a l’escola del Bosc.
URL:https://torrats.com/acte/venda-ruta-del-torrat-pack-soci-entrades-i-marxandatge-torrat-3/
LOCATION:Escola del Bosc\, Carrer d'Hipòlit Lázaro\,1\, Mollet del Vallès\, Barcelona\, 08100\, Spain
CATEGORIES:Festa Torrada 2020
ATTACH;FMTTYPE=image/png:https://torrats.com/wp-content/uploads/2020/07/pack-elmestorrat-2020.png
END:VEVENT
BEGIN:VEVENT
DTSTART;TZID=Europe/Andorra:20200813T100000
DTEND;TZID=Europe/Andorra:20200813T210000
DTSTAMP:20260422T125525
CREATED:20200806T105341Z
LAST-MODIFIED:20200806T110720Z
UID:2480-1597312800-1597352400@torrats.com
SUMMARY:Venda ruta del torrat\, pack soci\, entrades i marxandatge Torrat
DESCRIPTION:A la nostra botigueta podreu comprar tots els packs de socis\, mocadors i samarretes torrades\, els tiquets de la ruta dels torrats\, les entrades dels espectacles i el marxandatge torrat. \nEls mètodes de pagament que podeu fer servir són: \n\nTargeta\nTransferència bancària\nPayPal\nBizum (en el moment de venir a recollir la comanda)\nEn efectiu (en el moment de venir a recollir la comanda)\n\nLes comandes s’hauran de recollir a l’escola del Bosc.
URL:https://torrats.com/acte/venda-ruta-del-torrat-pack-soci-entrades-i-marxandatge-torrat-2/
LOCATION:Escola del Bosc\, Carrer d'Hipòlit Lázaro\,1\, Mollet del Vallès\, Barcelona\, 08100\, Spain
CATEGORIES:Festa Torrada 2020
ATTACH;FMTTYPE=image/png:https://torrats.com/wp-content/uploads/2020/07/pack-elmestorrat-2020.png
END:VEVENT
BEGIN:VEVENT
DTSTART;TZID=Europe/Andorra:20200812T180000
DTEND;TZID=Europe/Andorra:20200812T220000
DTSTAMP:20260422T125525
CREATED:20200806T105347Z
LAST-MODIFIED:20200806T125131Z
UID:2485-1597255200-1597269600@torrats.com
SUMMARY:8è Torneig de Pàdel MASCULÍ
DESCRIPTION:Vine a participar del tradicional torneig de pàdel torrat. Aquest any\, per evitar aglomeracions\, hem dividit totes les categories en dos dies. I el preu inclou piscina! Servei de barra i brasa\, a càrrec de la colla. \nInscriu-te ara
URL:https://torrats.com/acte/8e-torneig-de-padel-masculi/
LOCATION:Can Prat Pàdel Club\, Avinguda Can Prat\, 16\, Mollet del Vallès\, 08100\, Espanya
CATEGORIES:Festa Torrada 2020
ATTACH;FMTTYPE=image/jpeg:https://torrats.com/wp-content/uploads/2020/08/IMG-20200802-WA0056.jpg
END:VEVENT
BEGIN:VEVENT
DTSTART;TZID=Europe/Andorra:20200812T090000
DTEND;TZID=Europe/Andorra:20200812T130000
DTSTAMP:20260422T125525
CREATED:20200806T105346Z
LAST-MODIFIED:20200806T124916Z
UID:2484-1597222800-1597237200@torrats.com
SUMMARY:8è Torneig de Pàdel FEMENÍ
DESCRIPTION:Vine a participar del tradicional torneig de pàdel torrat. Aquest any\, per evitar aglomeracions\, hem dividit totes les categories en dos dies. I el preu inclou piscina! Servei de barra i brasa\, a càrrec de la colla. \nInscriu-te ara
URL:https://torrats.com/acte/8e-torneig-de-padel-femeni/
LOCATION:Can Prat Pàdel Club\, Avinguda Can Prat\, 16\, Mollet del Vallès\, 08100\, Espanya
CATEGORIES:Festa Torrada 2020
ATTACH;FMTTYPE=image/jpeg:https://torrats.com/wp-content/uploads/2020/08/IMG-20200802-WA0056.jpg
END:VEVENT
BEGIN:VEVENT
DTSTART;TZID=Europe/Andorra:20200811T180000
DTEND;TZID=Europe/Andorra:20200811T220000
DTSTAMP:20260422T125525
CREATED:20200806T105342Z
LAST-MODIFIED:20200806T125013Z
UID:2483-1597168800-1597183200@torrats.com
SUMMARY:8è Torneig de Pàdel MIXTE
DESCRIPTION:Vine a participar del tradicional torneig de pàdel torrat. Aquest any\, per evitar aglomeracions\, hem dividit totes les categories en dos dies. I el preu inclou piscina! Servei de barra i brasa\, a càrrec de la colla. \nInscriu-te ara
URL:https://torrats.com/acte/8e-torneig-de-padel-mixte/
LOCATION:Can Prat Pàdel Club\, Avinguda Can Prat\, 16\, Mollet del Vallès\, 08100\, Espanya
CATEGORIES:Festa Torrada 2020
ATTACH;FMTTYPE=image/jpeg:https://torrats.com/wp-content/uploads/2020/08/IMG-20200802-WA0056.jpg
END:VEVENT
BEGIN:VEVENT
DTSTART;TZID=Europe/Andorra:20200811T090000
DTEND;TZID=Europe/Andorra:20200818T220000
DTSTAMP:20260422T125525
CREATED:20200807T155947Z
LAST-MODIFIED:20200807T155947Z
UID:2554-1597136400-1597788000@torrats.com
SUMMARY:Cursa d'orientació torrada
DESCRIPTION:Es tracta d’un recorregut que es pot realitzar en un dia o bé podeu fer mica en mica al llarg de tota la Festa Major en grups de com a molt 5 persones.  \nMés informació sobre la cursa d’orientació torrada.
URL:https://torrats.com/acte/cursa-dorientacio-torrada/
LOCATION:Barcelona
CATEGORIES:Festa Torrada 2020
END:VEVENT
BEGIN:VEVENT
DTSTART;TZID=Europe/Andorra:20200811T090000
DTEND;TZID=Europe/Andorra:20200818T220000
DTSTAMP:20260422T125525
CREATED:20200807T155224Z
LAST-MODIFIED:20200807T155359Z
UID:2550-1597136400-1597788000@torrats.com
SUMMARY:La ruta dels Torrats
DESCRIPTION:30 bars\, 1 setmana per a consumir en cadascún d’ells. Més informació sobre la cursa dels Torrats.
URL:https://torrats.com/acte/la-ruta-dels-torrats/
LOCATION:Barcelona
CATEGORIES:Festa Torrada 2020
ATTACH;FMTTYPE=image/jpeg:https://torrats.com/wp-content/uploads/2020/07/ruta-dels-torrats-2020.jpg
END:VEVENT
BEGIN:VEVENT
DTSTART;TZID=Europe/Andorra:20200811T090000
DTEND;TZID=Europe/Andorra:20200811T130000
DTSTAMP:20260422T125525
CREATED:20200806T105342Z
LAST-MODIFIED:20200806T124848Z
UID:2482-1597136400-1597150800@torrats.com
SUMMARY:8è Torneig de Pàdel TORRAT
DESCRIPTION:Vine a participar del tradicional torneig de pàdel torrat. Aquest any\, per evitar aglomeracions\, hem dividit totes les categories en dos dies. I el preu inclou piscina! Servei de barra i brasa\, a càrrec de la colla. \nInscriu-te ara
URL:https://torrats.com/acte/8e-torneig-de-padel-torrat/
LOCATION:Can Prat Pàdel Club\, Avinguda Can Prat\, 16\, Mollet del Vallès\, 08100\, Espanya
CATEGORIES:Festa Torrada 2020
ATTACH;FMTTYPE=image/jpeg:https://torrats.com/wp-content/uploads/2020/08/IMG-20200802-WA0056.jpg
END:VEVENT
BEGIN:VEVENT
DTSTART;TZID=Europe/Andorra:20200810T100000
DTEND;TZID=Europe/Andorra:20200810T210000
DTSTAMP:20260422T125525
CREATED:20200806T105331Z
LAST-MODIFIED:20200806T110336Z
UID:2479-1597053600-1597093200@torrats.com
SUMMARY:Venda ruta del torrat\, pack soci\, entrades i marxandatge Torrat
DESCRIPTION:A la nostra botigueta podreu comprar tots els packs de socis\, mocadors i samarretes torrades\, els tiquets de la ruta dels torrats\, les entrades dels espectacles i el marxandatge torrat. \nEls mètodes de pagament que podeu fer servir són: \n\nTargeta\nTransferència bancària\nPayPal\nBizum (en el moment de venir a recollir la comanda)\nEn efectiu (en el moment de venir a recollir la comanda)\n\nLes comandes s’hauran de recollir a l’escola del Bosc.
URL:https://torrats.com/acte/venda-ruta-del-torrat-pack-soci-entrades-i-marxandatge-torrat/
LOCATION:Escola del Bosc\, Carrer d'Hipòlit Lázaro\,1\, Mollet del Vallès\, Barcelona\, 08100\, Spain
CATEGORIES:Festa Torrada 2020
ATTACH;FMTTYPE=image/png:https://torrats.com/wp-content/uploads/2020/07/pack-elmestorrat-2020.png
END:VEVENT
BEGIN:VEVENT
DTSTART;TZID=Europe/Andorra:20191101T080000
DTEND;TZID=Europe/Andorra:20191102T080000
DTSTAMP:20260422T125525
CREATED:20191023T111806Z
LAST-MODIFIED:20191023T114510Z
UID:1859-1572595200-1572681600@torrats.com
SUMMARY:Passatge del Terror
DESCRIPTION:Aquest any\, més que mai\, no us perdeu el Passatge del Terror Torrat\, un antic internat infantil on hi ha hagut un assassinat en unes condicions…molt estranyes! T’atreviràs a entrar? \nHi ha 3 nivells de por\, per a poder fer un passatge del terror que s’adapti a totes les edats. En qualsevol cas\, recomanem que els menors de 10 anys vagin acompanyats. I pels més valents…us atrevireu amb el nivell Xtrem? 🙂
URL:https://torrats.com/acte/passatge-del-terror-torrat-2019/
LOCATION:Centre Cívic de Can Pantiquet\, Carrer de Can Flaquer\, 25\, Mollet del Vallès\, Catalunya\, 08100\, Spain
END:VEVENT
BEGIN:VEVENT
DTSTART;TZID=Europe/Andorra:20190929T120000
DTEND;TZID=Europe/Andorra:20190929T130000
DTSTAMP:20260422T125525
CREATED:20190924T053004Z
LAST-MODIFIED:20190925T065455Z
UID:1845-1569758400-1569762000@torrats.com
SUMMARY:1a Trobada Torramusical de Mollet del Vallès
DESCRIPTION:7 colles molletanes mostrant música de carrer\, de disciplines i tradicions ben diverses\, i totes aplegades en un sol dia\, en un sol lloc\, en una mateixa cercavila des de Plaça Prat de la Riba fins al Parc de Can Mulà. \n\nIrmandade a Nosa Galizia\nCastellers de Mollet\nCentro Cultural Andaluz de Mollet\nCentro Aragonés Mollet\nBall de Diables\nAssociació Musical Pau Casals\nLa Banda del Moll Fer
URL:https://torrats.com/acte/1a-trobada-torramusical-de-mollet-del-valles/
LOCATION:Plaça Prat de la Riba\, Plaça Prat de la Riba\, Mollet del Vallès\, Barcelona\, 08100\, Espanya
END:VEVENT
BEGIN:VEVENT
DTSTART;TZID=Europe/Andorra:20190928T110000
DTEND;TZID=Europe/Andorra:20190929T010000
DTSTAMP:20260422T125525
CREATED:20190829T203435Z
LAST-MODIFIED:20190918T064451Z
UID:1822-1569668400-1569718800@torrats.com
SUMMARY:II Fira de la Cervesa Artesana de Mollet del Vallès
DESCRIPTION:br> \nSegona edició d’aquest esdeveniment anual\, amb més cervesers\, més food trucks i un dia ple d’actuacions de diferents artistes per amenitzar el parc durant tot el dia.
URL:https://torrats.com/acte/ii-fira-de-la-cervesa-artesana-de-mollet-del-valles/
LOCATION:Parc de Can Mulà\, Parc de Can Mulà\, Mollet del Vallès\, Barcelona\, 08100\, Espanya
END:VEVENT
BEGIN:VEVENT
DTSTART;TZID=Europe/Andorra:20190921T103000
DTEND;TZID=Europe/Andorra:20190922T103000
DTSTAMP:20260422T125526
CREATED:20190918T063533Z
LAST-MODIFIED:20190920T102905Z
UID:1827-1569061800-1569148200@torrats.com
SUMMARY:1er Rock Festival de Mollet del Vallès
DESCRIPTION:Juntament amb Guerreros Crow MC us presentem el 1er Rock Festival Solidari de Mollet del Vallès! Aquest dissabte dia 21 de Setembre al parc de Can Mulà podreu gaudir d’activitats per als més menuts\, tallers\, vermut\, dinar popular\, monòlegs i grans concerts fins que tanquem el parc! I servei de barra tot el dia a càrrec de Torrats! 🙂 \nTot el que recaptem anirà cap a AFIMOIC\, l’associació de Fibromialgia de Mollet del Vallès!\nVine a donar un cop de mà!
URL:https://torrats.com/acte/1er-rock-festival-de-mollet-del-valles/
LOCATION:Parc de Can Mulà\, Parc de Can Mulà\, Mollet del Vallès\, Barcelona\, 08100\, Espanya
END:VEVENT
BEGIN:VEVENT
DTSTART;TZID=Europe/Andorra:20190821T003000
DTEND;TZID=Europe/Andorra:20190821T030000
DTSTAMP:20260422T125526
CREATED:20190807T172710Z
LAST-MODIFIED:20190807T172710Z
UID:1588-1566347400-1566356400@torrats.com
SUMMARY:Proclamació de la Colla guanyadora
DESCRIPTION:
URL:https://torrats.com/acte/proclamacio-de-la-colla-guanyadora/
LOCATION:Envelat de Festa Major\, C/ de les Ordidores amb Avinguda de les Teixidores\, Mollet del Vallès\, Barcelona\, 08100\, Espanya
CATEGORIES:Festa Major Torrada 2019
END:VEVENT
BEGIN:VEVENT
DTSTART;TZID=Europe/Andorra:20190821T000000
DTEND;TZID=Europe/Andorra:20190821T003000
DTSTAMP:20260422T125526
CREATED:20190807T172710Z
LAST-MODIFIED:20190807T172710Z
UID:1587-1566345600-1566347400@torrats.com
SUMMARY:El Ball del Fanalet (*1 punt)
DESCRIPTION:Últim punt en joc de la competició entre colles! Balla el fanalet sense que cremi! \nLa venda començarà a partir de les 23:15 fins a 5 minuts abans de començar el ball.A continuació\, es proclamarà la colla guanyadora de la Festa Major 2019
URL:https://torrats.com/acte/el-ball-del-fanalet-1-punt-2/
LOCATION:Envelat de Festa Major\, C/ de les Ordidores amb Avinguda de les Teixidores\, Mollet del Vallès\, Barcelona\, 08100\, Espanya
CATEGORIES:Festa Major Torrada 2019
END:VEVENT
BEGIN:VEVENT
DTSTART;TZID=Europe/Andorra:20190820T193000
DTEND;TZID=Europe/Andorra:20190820T203000
DTSTAMP:20260422T125526
CREATED:20190807T172707Z
LAST-MODIFIED:20190807T172707Z
UID:1586-1566329400-1566333000@torrats.com
SUMMARY:Subhasta Remember
DESCRIPTION:
URL:https://torrats.com/acte/subhasta-remember/
LOCATION:Plaça Catalunya\, Plaça Catalunya\, Mollet del Vallès\, Barcelona\, 08100\, Espanya
CATEGORIES:Festa Major Torrada 2019
END:VEVENT
END:VCALENDAR