BEGIN:VCALENDAR
VERSION:2.0
PRODID:-//Entitat dinamitzadora de la Festa Major de Mollet del Vallès - ECPv6.13.1//NONSGML v1.0//EN
CALSCALE:GREGORIAN
METHOD:PUBLISH
X-WR-CALNAME:Entitat dinamitzadora de la Festa Major de Mollet del Vallès
X-ORIGINAL-URL:https://torrats.com
X-WR-CALDESC:Esdeveniments per Entitat dinamitzadora de la Festa Major de Mollet del Vallès
REFRESH-INTERVAL;VALUE=DURATION:PT1H
X-Robots-Tag:noindex
X-PUBLISHED-TTL:PT1H
BEGIN:VTIMEZONE
TZID:Europe/Andorra
BEGIN:DAYLIGHT
TZOFFSETFROM:+0100
TZOFFSETTO:+0200
TZNAME:CEST
DTSTART:20200329T010000
END:DAYLIGHT
BEGIN:STANDARD
TZOFFSETFROM:+0200
TZOFFSETTO:+0100
TZNAME:CET
DTSTART:20201025T010000
END:STANDARD
END:VTIMEZONE
BEGIN:VEVENT
DTSTART;TZID=Europe/Andorra:20200811T090000
DTEND;TZID=Europe/Andorra:20200811T130000
DTSTAMP:20260421T210850
CREATED:20200806T105342Z
LAST-MODIFIED:20200806T124848Z
UID:2482-1597136400-1597150800@torrats.com
SUMMARY:8è Torneig de Pàdel TORRAT
DESCRIPTION:Vine a participar del tradicional torneig de pàdel torrat. Aquest any\, per evitar aglomeracions\, hem dividit totes les categories en dos dies. I el preu inclou piscina! Servei de barra i brasa\, a càrrec de la colla. \nInscriu-te ara
URL:https://torrats.com/acte/8e-torneig-de-padel-torrat/
LOCATION:Can Prat Pàdel Club\, Avinguda Can Prat\, 16\, Mollet del Vallès\, 08100\, Espanya
CATEGORIES:Festa Torrada 2020
ATTACH;FMTTYPE=image/jpeg:https://torrats.com/wp-content/uploads/2020/08/IMG-20200802-WA0056.jpg
END:VEVENT
BEGIN:VEVENT
DTSTART;TZID=Europe/Andorra:20200811T090000
DTEND;TZID=Europe/Andorra:20200818T220000
DTSTAMP:20260421T210850
CREATED:20200807T155224Z
LAST-MODIFIED:20200807T155359Z
UID:2550-1597136400-1597788000@torrats.com
SUMMARY:La ruta dels Torrats
DESCRIPTION:30 bars\, 1 setmana per a consumir en cadascún d’ells. Més informació sobre la cursa dels Torrats.
URL:https://torrats.com/acte/la-ruta-dels-torrats/
LOCATION:Barcelona
CATEGORIES:Festa Torrada 2020
ATTACH;FMTTYPE=image/jpeg:https://torrats.com/wp-content/uploads/2020/07/ruta-dels-torrats-2020.jpg
END:VEVENT
BEGIN:VEVENT
DTSTART;TZID=Europe/Andorra:20200811T090000
DTEND;TZID=Europe/Andorra:20200818T220000
DTSTAMP:20260421T210850
CREATED:20200807T155947Z
LAST-MODIFIED:20200807T155947Z
UID:2554-1597136400-1597788000@torrats.com
SUMMARY:Cursa d'orientació torrada
DESCRIPTION:Es tracta d’un recorregut que es pot realitzar en un dia o bé podeu fer mica en mica al llarg de tota la Festa Major en grups de com a molt 5 persones.  \nMés informació sobre la cursa d’orientació torrada.
URL:https://torrats.com/acte/cursa-dorientacio-torrada/
LOCATION:Barcelona
CATEGORIES:Festa Torrada 2020
END:VEVENT
BEGIN:VEVENT
DTSTART;TZID=Europe/Andorra:20200811T180000
DTEND;TZID=Europe/Andorra:20200811T220000
DTSTAMP:20260421T210850
CREATED:20200806T105342Z
LAST-MODIFIED:20200806T125013Z
UID:2483-1597168800-1597183200@torrats.com
SUMMARY:8è Torneig de Pàdel MIXTE
DESCRIPTION:Vine a participar del tradicional torneig de pàdel torrat. Aquest any\, per evitar aglomeracions\, hem dividit totes les categories en dos dies. I el preu inclou piscina! Servei de barra i brasa\, a càrrec de la colla. \nInscriu-te ara
URL:https://torrats.com/acte/8e-torneig-de-padel-mixte/
LOCATION:Can Prat Pàdel Club\, Avinguda Can Prat\, 16\, Mollet del Vallès\, 08100\, Espanya
CATEGORIES:Festa Torrada 2020
ATTACH;FMTTYPE=image/jpeg:https://torrats.com/wp-content/uploads/2020/08/IMG-20200802-WA0056.jpg
END:VEVENT
END:VCALENDAR